BEGIN:VCALENDAR
VERSION:2.0
PRODID:-//Contratero//ES
CALSCALE:GREGORIAN
METHOD:PUBLISH
BEGIN:VEVENT
UID:PA 2017/069@contratero.es
DTSTAMP:20260423T131632Z
DTSTART:20171010T235959
DTEND:20171011T005959
SUMMARY:Cierre: Servicios para la gestión de un centro de soporte 
DESCRIPTION:Servicios para la gestión de un centro de soporte a usuarios (CSU) de los sistemas y tecnologías de la información del Instituto Nacional de Gestión Sanitaria\\n\\nOrganismo: Dirección del Instituto Nacional de Gestión Sanitaria (INGESA)\\n\\nVer en Contratero: https://contratero.es/contracts/PA 2017/069
URL:https://contratero.es/contracts/PA 2017/069
STATUS:CONFIRMED
BEGIN:VALARM
TRIGGER:-P1D
ACTION:DISPLAY
DESCRIPTION:Recordatorio: Servicios para la gestión de u
END:VALARM
END:VEVENT
END:VCALENDAR